BEGIN:VCALENDAR
CALSCALE:GREGORIAN
METHOD:PUBLISH
PRODID:-//5.199.133.97//NONSGML iCalcreator 2.6//
VERSION:2.0
UNIQUE_ID:event965@Йога секреты
X-WR-TIMEZONE:Asia/Baku
BEGIN:VEVENT
UID:event965@Йога секреты
DTSTAMP:20260421T184404Z
CATEGORIES:Лекции
DESCRIPTION:Расаяна в аюрведе. Открытая лекция
  доктора Прашанта Варьера\nТип события: Л
 екции \nСсылка: https://yogasecrets.ru/index.php?option=com_eve
 ntlist&view=details&id=965:-------&Itemid=117\n
DTSTART;TZID=Asia/Baku:20150214T143000
DTEND;TZID=Asia/Baku:20150214T160000
LOCATION:Центр аюрведы и йоги 'Керала'\,Мичури
 нский проспект\,3\,Москва\,Russian Federation
SUMMARY:Расаяна в аюрведе. Открытая лекция д
 ктора Прашанта Варьера
URL:https://yogasecrets.ru/index.php?option=com_eventlist&view=details&id=9
 65:-------&Itemid=117
END:VEVENT
END:VCALENDAR
