BEGIN:VCALENDAR
CALSCALE:GREGORIAN
METHOD:PUBLISH
PRODID:-//5.199.133.97//NONSGML iCalcreator 2.6//
VERSION:2.0
UNIQUE_ID:event991@Йога секреты
X-WR-TIMEZONE:Asia/Baku
BEGIN:VEVENT
UID:event991@Йога секреты
DTSTAMP:20260421T184244Z
CATEGORIES:Лекции
DESCRIPTION:Открытая лекция по истории и техни
 ке МАРМА-МАССАЖА\nТип события: Лекции \nСс
 ылка: https://yogasecrets.ru/index.php?option=com_eventlist&view=detai
 ls&id=991:-------&Itemid=117\n
DTSTART;TZID=Asia/Baku:20150304T190000
DTEND;TZID=Asia/Baku:20150304T210000
LOCATION:Центр Женский мир \,Большая Почтовая
 \, 20 с.1 \,Москва \,Russian Federation
SUMMARY:Открытая лекция по истории и технике
  МАРМА-МАССАЖА
URL:https://yogasecrets.ru/index.php?option=com_eventlist&view=details&id=9
 91:-------&Itemid=117
END:VEVENT
END:VCALENDAR
