BEGIN:VCALENDAR
CALSCALE:GREGORIAN
METHOD:PUBLISH
PRODID:-//5.199.133.97//NONSGML iCalcreator 2.6//
VERSION:2.0
UNIQUE_ID:event1182@Йога секреты
X-WR-TIMEZONE:Asia/Baku
BEGIN:VEVENT
UID:event1182@Йога секреты
DTSTAMP:20260421T100308Z
CATEGORIES:Семинары
DESCRIPTION:Семинар Насти Фэммы 'Погружение в 
 умерологию'\nТип события: Семинары\nСсыл
 а: https://yogasecrets.ru/index.php?option=com_eventlist&view=details&id
 =1182:---q--q&Itemid=117\n
DTSTART;VALUE=DATE:20150905
DTEND;VALUE=DATE:20150907
LOCATION:Йогапансионат\,Санкт-Петербург +120км
 \,Russian Federation
SUMMARY:Семинар Насти Фэммы 'Погружение в ну
 ерологию'
URL:https://yogasecrets.ru/index.php?option=com_eventlist&view=details&id=1
 182:---q--q&Itemid=117
END:VEVENT
END:VCALENDAR
