BEGIN:VCALENDAR
CALSCALE:GREGORIAN
METHOD:PUBLISH
PRODID:-//5.199.133.97//NONSGML iCalcreator 2.6//
VERSION:2.0
UNIQUE_ID:event12384@Йога секреты
X-WR-TIMEZONE:Asia/Baku
BEGIN:VEVENT
UID:event12384@Йога секреты
DTSTAMP:20260420T084315Z
CATEGORIES:Семинары
DESCRIPTION:МК ЧАКРАЛЬНАЯ ЙОГА\nТип события: Се
 минары\nСсылка: https://yogasecrets.ru/index.php?option=com_ev
 entlist&view=details&id=12384:--&Itemid=117\n
DTSTART;VALUE=DATE:20250504
DTEND;VALUE=DATE:20250505
LOCATION:YOGA laboratory | ЙОГА лаборатория \,5 линия 
 асильевского острова дом 54\,Санкт-Петер
 ург\,Russian Federation
SUMMARY:МК ЧАКРАЛЬНАЯ ЙОГА
URL:https://yogasecrets.ru/index.php?option=com_eventlist&view=details&id=1
 2384:--&Itemid=117
END:VEVENT
END:VCALENDAR
