BEGIN:VCALENDAR
CALSCALE:GREGORIAN
METHOD:PUBLISH
PRODID:-//5.199.133.97//NONSGML iCalcreator 2.6//
VERSION:2.0
UNIQUE_ID:event1448@Йога секреты
X-WR-TIMEZONE:Asia/Baku
BEGIN:VEVENT
UID:event1448@Йога секреты
DTSTAMP:20260421T095511Z
CATEGORIES:Семинары
DESCRIPTION:Открытые мастер-классы в честь дня
  рождения центра «Керала»\nТип события: С
 еминары\nСсылка: https://yogasecrets.ru/index.php?option=com_
 eventlist&view=details&id=1448:--------lr&Itemid=117\n
DTSTART;TZID=Asia/Baku:20151206T120000
DTEND;TZID=Asia/Baku:20151206T170000
LOCATION:
SUMMARY:Открытые мастер-классы в честь дня р
 ждения центра «Керала»
URL:https://yogasecrets.ru/index.php?option=com_eventlist&view=details&id=1
 448:--------lr&Itemid=117
END:VEVENT
END:VCALENDAR
