BEGIN:VCALENDAR
CALSCALE:GREGORIAN
METHOD:PUBLISH
PRODID:-//5.199.133.97//NONSGML iCalcreator 2.6//
VERSION:2.0
UNIQUE_ID:event1585@Йога секреты
X-WR-TIMEZONE:Asia/Baku
BEGIN:VEVENT
UID:event1585@Йога секреты
DTSTAMP:20260421T094650Z
CATEGORIES:Семинары
DESCRIPTION:Открытая лекция по истории и техни
 ке марма - массажа\nТип события: Семинары
 \nСсылка: https://yogasecrets.ru/index.php?option=com_eventlist&view
 =details&id=1585:-------&Itemid=117\n
DTSTART;TZID=Asia/Baku:20160403T130000
DTEND;TZID=Asia/Baku:20160403T143000
LOCATION:Центр аюрведы и йоги 'Керала'\,Мичури
 нский проспект\,3\,Москва\,Russian Federation
SUMMARY:Открытая лекция по истории и технике
  марма - массажа
URL:https://yogasecrets.ru/index.php?option=com_eventlist&view=details&id=1
 585:-------&Itemid=117
END:VEVENT
END:VCALENDAR
