BEGIN:VCALENDAR
CALSCALE:GREGORIAN
METHOD:PUBLISH
PRODID:-//5.199.133.97//NONSGML iCalcreator 2.6//
VERSION:2.0
UNIQUE_ID:event2115@Йога секреты
X-WR-TIMEZONE:Asia/Baku
BEGIN:VEVENT
UID:event2115@Йога секреты
DTSTAMP:20260421T100926Z
CATEGORIES:Семинары
DESCRIPTION:Родовые кармические связи. Наука ч
 исел\nТип события: Семинары\nСсылка: https://y
 ogasecrets.ru/index.php?option=com_eventlist&view=details&id=2115:----&Ite
 mid=117\n
DTSTART;TZID=Asia/Baku:20170304T100000
DTEND;TZID=Asia/Baku:20170305T150000
LOCATION:Эра Водолея\,ул. Тверская\, д.12\, строе
 ние 8\,Москва\,Russian Federation
SUMMARY:Родовые кармические связи. Наука чис
 ел
URL:https://yogasecrets.ru/index.php?option=com_eventlist&view=details&id=2
 115:----&Itemid=117
END:VEVENT
END:VCALENDAR
