BEGIN:VCALENDAR
CALSCALE:GREGORIAN
METHOD:PUBLISH
PRODID:-//5.199.133.97//NONSGML iCalcreator 2.6//
VERSION:2.0
UNIQUE_ID:event2207@Йога секреты
X-WR-TIMEZONE:Asia/Baku
BEGIN:VEVENT
UID:event2207@Йога секреты
DTSTAMP:20260421T094811Z
CATEGORIES:Семинары
DESCRIPTION:Чакральная система человека. Как н
 аш дух формирует себе тело\nТип события: 
 еминары\nСсылка: https://yogasecrets.ru/index.php?option=com
 _eventlist&view=details&id=2207:--------&Itemid=117\n
DTSTART;TZID=Asia/Baku:20170701T100000
DTEND;TZID=Asia/Baku:20170701T140000
LOCATION:Московский Университет йоги\,Russian Fede
 ration
SUMMARY:Чакральная система человека. Как наш
  дух формирует себе тело
URL:https://yogasecrets.ru/index.php?option=com_eventlist&view=details&id=2
 207:--------&Itemid=117
END:VEVENT
END:VCALENDAR
