BEGIN:VCALENDAR
CALSCALE:GREGORIAN
METHOD:PUBLISH
PRODID:-//5.199.133.97//NONSGML iCalcreator 2.6//
VERSION:2.0
UNIQUE_ID:event2275@Йога секреты
X-WR-TIMEZONE:Asia/Baku
BEGIN:VEVENT
UID:event2275@Йога секреты
DTSTAMP:20260421T094532Z
CATEGORIES:Семинары
DESCRIPTION:Хатха йога. Освоение шпагатов. 13 ав
 густа 2017\nТип события: Семинары\nСсылка: ht
 tps://yogasecrets.ru/index.php?option=com_eventlist&view=details&id=2275:-
 ---13--2017&Itemid=117\n
DTSTART;TZID=Asia/Baku:20170813T160000
DTEND;TZID=Asia/Baku:20170813T183000
LOCATION:Студия йоги 'Грави Йога'\,ул.Радужная
 \, д.9\, кор.1\,Москва\,Russian Federation
SUMMARY:Хатха йога. Освоение шпагатов. 13 авгу
 ста 2017
URL:https://yogasecrets.ru/index.php?option=com_eventlist&view=details&id=2
 275:----13--2017&Itemid=117
END:VEVENT
END:VCALENDAR
