BEGIN:VCALENDAR
CALSCALE:GREGORIAN
METHOD:PUBLISH
PRODID:-//5.199.133.97//NONSGML iCalcreator 2.6//
VERSION:2.0
UNIQUE_ID:event2277@Йога секреты
X-WR-TIMEZONE:Asia/Baku
BEGIN:VEVENT
UID:event2277@Йога секреты
DTSTAMP:20260421T094812Z
CATEGORIES:Семинары
DESCRIPTION:ДЕТОКС-ЙОГА-СПА в Италии на озере К
 омо с 7–17 сентября 2017\nТип события: Семин
 ры\nСсылка: https://yogasecrets.ru/index.php?option=com_eventlist
 &view=details&id=2277:---------717--2017&Itemid=117\n
DTSTART;VALUE=DATE:20170907
DTEND;VALUE=DATE:20170918
LOCATION:Италия\, озеро Комо\,Italy
SUMMARY:ДЕТОКС-ЙОГА-СПА в Италии на озере Ком
 о с 7–17 сентября 2017
URL:https://yogasecrets.ru/index.php?option=com_eventlist&view=details&id=2
 277:---------717--2017&Itemid=117
END:VEVENT
END:VCALENDAR
