BEGIN:VCALENDAR
CALSCALE:GREGORIAN
METHOD:PUBLISH
PRODID:-//5.199.133.97//NONSGML iCalcreator 2.6//
VERSION:2.0
UNIQUE_ID:event2686@Йога секреты
X-WR-TIMEZONE:Asia/Baku
BEGIN:VEVENT
UID:event2686@Йога секреты
DTSTAMP:20260421T095425Z
CATEGORIES:Семинары
DESCRIPTION:Интенсив по женским практикам «Кр
 сота»\nТип события: Семинары\nСсылка: https:
 //yogasecrets.ru/index.php?option=com_eventlist&view=details&id=2686&Itemi
 d=117\n
DTSTART;TZID=Asia/Baku:20180616T153000
DTEND;TZID=Asia/Baku:20180616T190000
LOCATION: Школа Каула-йоги м. Тургеневская\,Ми
 лютинский пер.\, 15\,Москва\,Russian Federation
SUMMARY:Интенсив по женским практикам «Крас
 та»
URL:https://yogasecrets.ru/index.php?option=com_eventlist&view=details&id=2
 686&Itemid=117
END:VEVENT
END:VCALENDAR
