BEGIN:VCALENDAR
CALSCALE:GREGORIAN
METHOD:PUBLISH
PRODID:-//5.199.133.97//NONSGML iCalcreator 2.6//
VERSION:2.0
UNIQUE_ID:event2748@Йога секреты
X-WR-TIMEZONE:Asia/Baku
BEGIN:VEVENT
UID:event2748@Йога секреты
DTSTAMP:20260421T094640Z
CATEGORIES:Семинары
DESCRIPTION:Встречи с духовным учителем Шри Пр
 акашем Джи\nТип события: Семинары\nСсылка
 : https://yogasecrets.ru/index.php?option=com_eventlist&view=details&id=27
 48:------&Itemid=117\n
DTSTART;TZID=Asia/Baku:20180923T130000
DTEND;TZID=Asia/Baku:20180923T150000
LOCATION:
SUMMARY:Встречи с духовным учителем Шри Прак
 ашем Джи
URL:https://yogasecrets.ru/index.php?option=com_eventlist&view=details&id=2
 748:------&Itemid=117
END:VEVENT
END:VCALENDAR
