BEGIN:VCALENDAR
CALSCALE:GREGORIAN
METHOD:PUBLISH
PRODID:-//5.199.133.97//NONSGML iCalcreator 2.6//
VERSION:2.0
UNIQUE_ID:event2796@Йога секреты
X-WR-TIMEZONE:Asia/Baku
BEGIN:VEVENT
UID:event2796@Йога секреты
DTSTAMP:20260421T094358Z
CATEGORIES:Семинары
DESCRIPTION:Кулинарный мастер-класс «Амла - эл
 ксир красоты»\nТип события: Семинары\nСс
 лка: https://yogasecrets.ru/index.php?option=com_eventlist&view=detail
 s&id=2796&Itemid=117\n
DTSTART;TZID=Asia/Baku:20180707T143000
DTEND;TZID=Asia/Baku:20180707T153000
LOCATION: Школа Каула-йоги м. Тургеневская\,Ми
 лютинский пер.\, 15\,Москва\,Russian Federation
SUMMARY:Кулинарный мастер-класс «Амла - элик
 ир красоты»
URL:https://yogasecrets.ru/index.php?option=com_eventlist&view=details&id=2
 796&Itemid=117
END:VEVENT
END:VCALENDAR
