BEGIN:VCALENDAR
CALSCALE:GREGORIAN
METHOD:PUBLISH
PRODID:-//5.199.133.97//NONSGML iCalcreator 2.6//
VERSION:2.0
UNIQUE_ID:event2858@Йога секреты
X-WR-TIMEZONE:Asia/Baku
BEGIN:VEVENT
UID:event2858@Йога секреты
DTSTAMP:20260421T094648Z
CATEGORIES:Семинары
DESCRIPTION:ТРЕНИНГ 'ПРОШЛЫЕ ЖИЗНИ –  КЛЮЧ К РА
 ЗГАДКЕ ВАШИХ ТАЙН\nТип события: Семинары
 \nСсылка: https://yogasecrets.ru/index.php?option=com_eventlist&view
 =details&id=2858:-q-------&Itemid=117\n
DTSTART;TZID=Asia/Baku:20180818T170000
DTEND;TZID=Asia/Baku:20180819T210000
LOCATION:ГравиЙога\,Радужная дом 9 корпус 1\,Мо
 сква\,Russian Federation
SUMMARY:ТРЕНИНГ 'ПРОШЛЫЕ ЖИЗНИ –  КЛЮЧ К РАЗГ
 АДКЕ ВАШИХ ТАЙН
URL:https://yogasecrets.ru/index.php?option=com_eventlist&view=details&id=2
 858:-q-------&Itemid=117
END:VEVENT
END:VCALENDAR
