BEGIN:VCALENDAR
CALSCALE:GREGORIAN
METHOD:PUBLISH
PRODID:-//5.199.133.97//NONSGML iCalcreator 2.6//
VERSION:2.0
UNIQUE_ID:event4166@Йога секреты
X-WR-TIMEZONE:Asia/Baku
BEGIN:VEVENT
UID:event4166@Йога секреты
DTSTAMP:20260420T100654Z
CATEGORIES:Семинары
DESCRIPTION:Семинар «Йога осознанных сновиден
 ий»\nТип события: Семинары\nСсылка: https://yog
 asecrets.ru/index.php?option=com_eventlist&view=details&id=4166&Itemid=117
 \n
DTSTART;TZID=Asia/Baku:20230401T133000
DTEND;TZID=Asia/Baku:20230401T173000
LOCATION:Московский Университет йоги\,Russian Fede
 ration
SUMMARY:Семинар «Йога осознанных сновидений
 »
URL:https://yogasecrets.ru/index.php?option=com_eventlist&view=details&id=4
 166&Itemid=117
END:VEVENT
END:VCALENDAR
