BEGIN:VCALENDAR
CALSCALE:GREGORIAN
METHOD:PUBLISH
PRODID:-//5.199.133.97//NONSGML iCalcreator 2.6//
VERSION:2.0
UNIQUE_ID:event427@Йога секреты
X-WR-TIMEZONE:Asia/Baku
BEGIN:VEVENT
UID:event427@Йога секреты
DTSTAMP:20260420T090056Z
CATEGORIES:Семинары
DESCRIPTION:Семинар по женским практикам 'Love & L
 ight Women'!\nТип события: Семинары\nСсылка: https
 ://yogasecrets.ru/index.php?option=com_eventlist&view=details&id=427:----q
 love-a-light-womenq&Itemid=117\n
DTSTART;TZID=Asia/Baku:20130330T110000
DTEND;TZID=Asia/Baku:20130331T180000
LOCATION:Клуб йоги 'Элемент'\,Санкт-Петербург\
 , \,Russian Federation
SUMMARY:Семинар по женским практикам 'Love & Light
  Women'!
URL:https://yogasecrets.ru/index.php?option=com_eventlist&view=details&id=4
 27:----qlove-a-light-womenq&Itemid=117
END:VEVENT
END:VCALENDAR
