BEGIN:VCALENDAR
CALSCALE:GREGORIAN
METHOD:PUBLISH
PRODID:-//5.199.133.97//NONSGML iCalcreator 2.6//
VERSION:2.0
UNIQUE_ID:event458@Йога секреты
X-WR-TIMEZONE:Asia/Baku
BEGIN:VEVENT
UID:event458@Йога секреты
DTSTAMP:20260420T084405Z
CATEGORIES:Семинары
DESCRIPTION:Аюрведический йога-тур в Кералу\nТ
 п события: Семинары\nСсылка: https://yogasecrets.ru
 /index.php?option=com_eventlist&view=details&id=458:----&Itemid=117\n
DTSTART;TZID=Asia/Baku:20131023T090000
DTEND;TZID=Asia/Baku:20131106T190000
LOCATION:Керала\, Индия\,Керала\,India
SUMMARY:Аюрведический йога-тур в Кералу
URL:https://yogasecrets.ru/index.php?option=com_eventlist&view=details&id=4
 58:----&Itemid=117
END:VEVENT
END:VCALENDAR
