BEGIN:VCALENDAR
CALSCALE:GREGORIAN
METHOD:PUBLISH
PRODID:-//5.199.133.97//NONSGML iCalcreator 2.6//
VERSION:2.0
UNIQUE_ID:event489@Йога секреты
X-WR-TIMEZONE:Asia/Baku
BEGIN:VEVENT
UID:event489@Йога секреты
DTSTAMP:20260420T085548Z
CATEGORIES:Семинары
DESCRIPTION:Семинар «Йога и Васту» в Архангель
 ской обл. 'Тепло Севера'\nТип события: Сем
 нары\nСсылка: https://yogasecrets.ru/index.php?option=com_event
 list&view=details&id=489:-l--r----q-q&Itemid=117\n
DTSTART;TZID=Asia/Baku:20130825T180000
DTEND;TZID=Asia/Baku:20130831T120000
LOCATION:Кенозерский Национальный Парк\,Цент
 ральная\,с. Вершинино\,Russian Federation
SUMMARY:Семинар «Йога и Васту» в Архангельск
 ой обл. 'Тепло Севера'
URL:https://yogasecrets.ru/index.php?option=com_eventlist&view=details&id=4
 89:-l--r----q-q&Itemid=117
END:VEVENT
END:VCALENDAR
