BEGIN:VCALENDAR
CALSCALE:GREGORIAN
METHOD:PUBLISH
PRODID:-//5.199.133.97//NONSGML iCalcreator 2.6//
VERSION:2.0
UNIQUE_ID:event508@Йога секреты
X-WR-TIMEZONE:Asia/Baku
BEGIN:VEVENT
UID:event508@Йога секреты
DTSTAMP:20260420T091956Z
CATEGORIES:Семинары
DESCRIPTION:9-10 НОЯБРЯ СЕМИНАР 'LOVE & LIGHT WOMEN' В СПБ
 !\nТип события: Семинары\nСсылка: https://yogasecr
 ets.ru/index.php?option=com_eventlist&view=details&id=508:9-10---qlove-a-l
 ight-womenq--&Itemid=117\n
DTSTART;TZID=Asia/Baku:20131109T110000
DTEND;TZID=Asia/Baku:20131110T180000
LOCATION:Клуб йоги 'Элемент'\,Санкт-Петербург\
 , \,Russian Federation
SUMMARY:9-10 НОЯБРЯ СЕМИНАР 'LOVE & LIGHT WOMEN' В СПБ!
URL:https://yogasecrets.ru/index.php?option=com_eventlist&view=details&id=5
 08:9-10---qlove-a-light-womenq--&Itemid=117
END:VEVENT
END:VCALENDAR
