BEGIN:VCALENDAR
CALSCALE:GREGORIAN
METHOD:PUBLISH
PRODID:-//5.199.133.97//NONSGML iCalcreator 2.6//
VERSION:2.0
UNIQUE_ID:event535@Йога секреты
X-WR-TIMEZONE:Asia/Baku
BEGIN:VEVENT
UID:event535@Йога секреты
DTSTAMP:20260420T084834Z
CATEGORIES:Семинары
DESCRIPTION:Достижение целей(авторский семина
 р Даши Каболовой)\nТип события: Семинары\n
 Ссылка: https://yogasecrets.ru/index.php?option=com_eventlist&view=d
 etails&id=535:----&Itemid=117\n
DTSTART;TZID=Asia/Baku:20131128T183000
DTEND;TZID=Asia/Baku:20131128T220000
LOCATION:Даша Каболова. Йога и целение\,Москв
 \,Russian Federation
SUMMARY:Достижение целей(авторский семинар 
 аши Каболовой)
URL:https://yogasecrets.ru/index.php?option=com_eventlist&view=details&id=5
 35:----&Itemid=117
END:VEVENT
END:VCALENDAR
