BEGIN:VCALENDAR
CALSCALE:GREGORIAN
METHOD:PUBLISH
PRODID:-//5.199.133.97//NONSGML iCalcreator 2.6//
VERSION:2.0
UNIQUE_ID:event570@Йога секреты
X-WR-TIMEZONE:Asia/Baku
BEGIN:VEVENT
UID:event570@Йога секреты
DTSTAMP:20260420T084211Z
CATEGORIES:Семинары
DESCRIPTION:Путь к просветлению\nТип события: С
 еминары\nСсылка: https://yogasecrets.ru/index.php?option=com_
 eventlist&view=details&id=570:--&Itemid=117\n
DTSTART;VALUE=DATE:20140218
DTEND;VALUE=DATE:20140221
LOCATION:Украина\,Вишневая\,Донецк
SUMMARY:Путь к просветлению
URL:https://yogasecrets.ru/index.php?option=com_eventlist&view=details&id=5
 70:--&Itemid=117
END:VEVENT
END:VCALENDAR
