BEGIN:VCALENDAR
CALSCALE:GREGORIAN
METHOD:PUBLISH
PRODID:-//5.199.133.97//NONSGML iCalcreator 2.6//
VERSION:2.0
UNIQUE_ID:event579@Йога секреты
X-WR-TIMEZONE:Asia/Baku
BEGIN:VEVENT
UID:event579@Йога секреты
DTSTAMP:20260420T084255Z
CATEGORIES:Семинары
DESCRIPTION:Учитель Чандран — мастер самьяк-й
 ги в центре 'Керала'\nТип события: Семина
 ы\nСсылка: https://yogasecrets.ru/index.php?option=com_eventlist&v
 iew=details&id=579:--------qq&Itemid=117\n
DTSTART;VALUE=DATE:20140201
DTEND;VALUE=DATE:20140305
LOCATION:Центр аюрведы и йоги 'Керала'\,Мичури
 нский проспект\,3\,Москва\,Russian Federation
SUMMARY:Учитель Чандран — мастер самьяк-йог
  в центре 'Керала'
URL:https://yogasecrets.ru/index.php?option=com_eventlist&view=details&id=5
 79:--------qq&Itemid=117
END:VEVENT
END:VCALENDAR
