BEGIN:VCALENDAR
CALSCALE:GREGORIAN
METHOD:PUBLISH
PRODID:-//5.199.133.97//NONSGML iCalcreator 2.6//
VERSION:2.0
UNIQUE_ID:event594@Йога секреты
X-WR-TIMEZONE:Asia/Baku
BEGIN:VEVENT
UID:event594@Йога секреты
DTSTAMP:20260420T084500Z
CATEGORIES:Семинары
DESCRIPTION:ПСИХОЛОГИЯ ЙОГИ. ПРИРОДА УМА. Семи
 ар в Подмосковье\nТип события: Семинары\n
 Ссылка: https://yogasecrets.ru/index.php?option=com_eventlist&view=d
 etails&id=594:------&Itemid=117\n
DTSTART;VALUE=DATE:20140221
DTEND;VALUE=DATE:20140224
LOCATION:
SUMMARY:ПСИХОЛОГИЯ ЙОГИ. ПРИРОДА УМА. Семина
  в Подмосковье
URL:https://yogasecrets.ru/index.php?option=com_eventlist&view=details&id=5
 94:------&Itemid=117
END:VEVENT
END:VCALENDAR
