BEGIN:VCALENDAR
CALSCALE:GREGORIAN
METHOD:PUBLISH
PRODID:-//5.199.133.97//NONSGML iCalcreator 2.6//
VERSION:2.0
UNIQUE_ID:event597@Йога секреты
X-WR-TIMEZONE:Asia/Baku
BEGIN:VEVENT
UID:event597@Йога секреты
DTSTAMP:20260420T084349Z
CATEGORIES:Семинары
DESCRIPTION:Вебинар 'Интуиция. Иллюзия и реаль
 ость'\nТип события: Семинары\nСсылка: https:/
 /yogasecrets.ru/index.php?option=com_eventlist&view=details&id=597:-q---q&
 Itemid=117\n
DTSTART;TZID=Asia/Baku:20140225T200000
DTEND;TZID=Asia/Baku:20140225T220000
LOCATION:Даша Каболова. Йога и целение\,Москв
 \,Russian Federation
SUMMARY:Вебинар 'Интуиция. Иллюзия и реально
 ть'
URL:https://yogasecrets.ru/index.php?option=com_eventlist&view=details&id=5
 97:-q---q&Itemid=117
END:VEVENT
END:VCALENDAR
