BEGIN:VCALENDAR
CALSCALE:GREGORIAN
METHOD:PUBLISH
PRODID:-//5.199.133.97//NONSGML iCalcreator 2.6//
VERSION:2.0
UNIQUE_ID:event608@Йога секреты
X-WR-TIMEZONE:Asia/Baku
BEGIN:VEVENT
UID:event608@Йога секреты
DTSTAMP:20260420T084340Z
CATEGORIES:Семинары
DESCRIPTION:Интенсив ''Целение сердечного цент
 ра''\nТип события: Семинары\nСсылка: https://yog
 asecrets.ru/index.php?option=com_eventlist&view=details&id=608:---&Itemid=
 117\n
DTSTART;TZID=Asia/Baku:20140323T120000
DTEND;TZID=Asia/Baku:20140323T163000
LOCATION:Даша Каболова. Йога и целение\,Москв
 \,Russian Federation
SUMMARY:Интенсив ''Целение сердечного центра
 ''
URL:https://yogasecrets.ru/index.php?option=com_eventlist&view=details&id=6
 08:---&Itemid=117
END:VEVENT
END:VCALENDAR
