BEGIN:VCALENDAR
CALSCALE:GREGORIAN
METHOD:PUBLISH
PRODID:-//5.199.133.97//NONSGML iCalcreator 2.6//
VERSION:2.0
UNIQUE_ID:event634@Йога секреты
X-WR-TIMEZONE:Asia/Baku
BEGIN:VEVENT
UID:event634@Йога секреты
DTSTAMP:20260420T100621Z
CATEGORIES:Семинары
DESCRIPTION:Семинар 'Интуиция.Иллюзии и реальн
 ость'\nТип события: Семинары\nСсылка: https://
 yogasecrets.ru/index.php?option=com_eventlist&view=details&id=634:-q--q&It
 emid=117\n
DTSTART;TZID=Asia/Baku:20140401T183000
DTEND;TZID=Asia/Baku:20140401T220000
LOCATION:Даша Каболова. Йога и целение\,Москв
 \,Russian Federation
SUMMARY:Семинар 'Интуиция.Иллюзии и реальнос
 ть'
URL:https://yogasecrets.ru/index.php?option=com_eventlist&view=details&id=6
 34:-q--q&Itemid=117
END:VEVENT
END:VCALENDAR
