BEGIN:VCALENDAR
CALSCALE:GREGORIAN
METHOD:PUBLISH
PRODID:-//5.199.133.97//NONSGML iCalcreator 2.6//
VERSION:2.0
UNIQUE_ID:event758@Йога секреты
X-WR-TIMEZONE:Asia/Baku
BEGIN:VEVENT
UID:event758@Йога секреты
DTSTAMP:20260421T095353Z
CATEGORIES:Семинары
DESCRIPTION:Кундалини йога\, семинары и классы 
 от мастера йоги Садхашивы\nТип события: С
 еминары\nСсылка: https://yogasecrets.ru/index.php?option=com_
 eventlist&view=details&id=758:--------&Itemid=117\n
DTSTART;TZID=Asia/Baku:20141026T090000
DTEND;TZID=Asia/Baku:20141210T203000
LOCATION:Центр аюрведы и йоги 'Керала'\,Мичури
 нский проспект\,3\,Москва\,Russian Federation
SUMMARY:Кундалини йога\, семинары и классы от
  мастера йоги Садхашивы
URL:https://yogasecrets.ru/index.php?option=com_eventlist&view=details&id=7
 58:--------&Itemid=117
END:VEVENT
END:VCALENDAR
