BEGIN:VCALENDAR
CALSCALE:GREGORIAN
METHOD:PUBLISH
PRODID:-//5.199.133.97//NONSGML iCalcreator 2.6//
VERSION:2.0
UNIQUE_ID:event788@Йога секреты
X-WR-TIMEZONE:Asia/Baku
BEGIN:VEVENT
UID:event788@Йога секреты
DTSTAMP:20260421T095456Z
CATEGORIES:Семинары
DESCRIPTION:Йога-семинар в Таллинне: Relax Your Body & 
 Breath Normally\nТип события: Семинары\nСсылка: ht
 tps://yogasecrets.ru/index.php?option=com_eventlist&view=details&id=788:--
 --relax-your-body-a-breath-normally&Itemid=117\n
DTSTART;TZID=Asia/Baku:20141128T200000
DTEND;TZID=Asia/Baku:20141130T120000
LOCATION:Braavo Hotel\,Aia 20\,Таллинн\,Estonia
SUMMARY:Йога-семинар в Таллинне: Relax Your Body & Brea
 th Normally
URL:https://yogasecrets.ru/index.php?option=com_eventlist&view=details&id=7
 88:----relax-your-body-a-breath-normally&Itemid=117
END:VEVENT
END:VCALENDAR
