BEGIN:VCALENDAR
CALSCALE:GREGORIAN
METHOD:PUBLISH
PRODID:-//5.199.133.97//NONSGML iCalcreator 2.6//
VERSION:2.0
UNIQUE_ID:event80@Йога секреты
X-WR-TIMEZONE:Asia/Baku
BEGIN:VEVENT
UID:event80@Йога секреты
DTSTAMP:20260420T084211Z
CATEGORIES:Семинары
DESCRIPTION:Семинар 'ПУТЬ К УСПЕХУ!'\nТип событи
 я: Семинары\nСсылка: https://yogasecrets.ru/index.php?optio
 n=com_eventlist&view=details&id=80:-q--q&Itemid=117\n
DTSTART;TZID=Asia/Baku:20121103T110000
DTEND;TZID=Asia/Baku:20121104T180000
LOCATION:Клуб йоги 'Элемент'\,Санкт-Петербург\
 , \,Russian Federation
SUMMARY:Семинар 'ПУТЬ К УСПЕХУ!'
URL:https://yogasecrets.ru/index.php?option=com_eventlist&view=details&id=8
 0:-q--q&Itemid=117
END:VEVENT
END:VCALENDAR
