BEGIN:VCALENDAR
CALSCALE:GREGORIAN
METHOD:PUBLISH
PRODID:-//5.199.133.97//NONSGML iCalcreator 2.6//
VERSION:2.0
UNIQUE_ID:event1497@Йога секреты
X-WR-TIMEZONE:Asia/Baku
BEGIN:VEVENT
UID:event1497@Йога секреты
DTSTAMP:20260420T131711Z
CATEGORIES:Фестиваль
DESCRIPTION:Фестиваль НЕВЕРОЯТНАЯ ИНДИЯ\nТип с
 обытия: Фестиваль\nСсылка: https://yogasecrets.ru/ind
 ex.php?option=com_eventlist&view=details&id=1497:--&Itemid=117\n
DTSTART;VALUE=DATE:20160201
DTEND;VALUE=DATE:20160206
LOCATION:Студия документальных фильмов\,наб. 
 Крюкова канала 12\,Санкт-Петербург\,Russian Fed
 eration
SUMMARY:Фестиваль НЕВЕРОЯТНАЯ ИНДИЯ
URL:https://yogasecrets.ru/index.php?option=com_eventlist&view=details&id=1
 497:--&Itemid=117
END:VEVENT
END:VCALENDAR
