BEGIN:VCALENDAR
CALSCALE:GREGORIAN
METHOD:PUBLISH
PRODID:-//5.199.133.97//NONSGML iCalcreator 2.6//
VERSION:2.0
UNIQUE_ID:event1559@Йога секреты
X-WR-TIMEZONE:Asia/Baku
BEGIN:VEVENT
UID:event1559@Йога секреты
DTSTAMP:20260420T131736Z
CATEGORIES:Фестиваль
DESCRIPTION:POROTA FEST\, или Масленица по-индийски\n
 Тип события: Фестиваль\nСсылка: https://yogasecre
 ts.ru/index.php?option=com_eventlist&view=details&id=1559:porota-fest----&
 Itemid=117\n
DTSTART;TZID=Asia/Baku:20160228T120000
DTEND;TZID=Asia/Baku:20160228T160000
LOCATION:Центр аюрведы и йоги 'Керала'\,Мичури
 нский проспект\,3\,Москва\,Russian Federation
SUMMARY:POROTA FEST\, или Масленица по-индийски
URL:https://yogasecrets.ru/index.php?option=com_eventlist&view=details&id=1
 559:porota-fest----&Itemid=117
END:VEVENT
END:VCALENDAR
