BEGIN:VCALENDAR
CALSCALE:GREGORIAN
METHOD:PUBLISH
PRODID:-//5.199.133.97//NONSGML iCalcreator 2.6//
VERSION:2.0
UNIQUE_ID:event1012@Йога секреты
X-WR-TIMEZONE:Asia/Baku
BEGIN:VEVENT
UID:event1012@Йога секреты
DTSTAMP:20260421T152521Z
CATEGORIES:Курс обучения
DESCRIPTION:Курс коррекции фигуры и обретения 
 стройности через йогу.\nТип события: Курс
  обучения\nСсылка: https://yogasecrets.ru/index.php?option=c
 om_eventlist&view=details&id=1012:-------&Itemid=117\n
DTSTART;TZID=Asia/Baku:20150316T203000
DTEND;TZID=Asia/Baku:20150316T203000
LOCATION:
SUMMARY:Курс коррекции фигуры и обретения ст
 ройности через йогу.
URL:https://yogasecrets.ru/index.php?option=com_eventlist&view=details&id=1
 012:-------&Itemid=117
END:VEVENT
END:VCALENDAR
