BEGIN:VCALENDAR
CALSCALE:GREGORIAN
METHOD:PUBLISH
PRODID:-//5.199.133.97//NONSGML iCalcreator 2.6//
VERSION:2.0
UNIQUE_ID:event1021@Йога секреты
X-WR-TIMEZONE:Asia/Baku
BEGIN:VEVENT
UID:event1021@Йога секреты
DTSTAMP:20260421T152757Z
CATEGORIES:Курс обучения
DESCRIPTION:ОБУЧАЮЩИЙ КУРС ПОДГОТОВКИ ИНСТРУК
 ТОРОВ ПО ХАТХА-ЙОГЕ С СТАНИ\nТип события: 
 Курс обучения\nСсылка: https://yogasecrets.ru/index.php?
 option=com_eventlist&view=details&id=1021:--------&Itemid=117\n
DTSTART;VALUE=DATE:20150318
DTEND;VALUE=DATE:20150511
LOCATION:Студия Аэро Йоги Ananta\,Парашютная\,1\,С
 анкт-Петербург\,Russian Federation
SUMMARY:ОБУЧАЮЩИЙ КУРС ПОДГОТОВКИ ИНСТРУКТО
 РОВ ПО ХАТХА-ЙОГЕ С СТАНИ
URL:https://yogasecrets.ru/index.php?option=com_eventlist&view=details&id=1
 021:--------&Itemid=117
END:VEVENT
END:VCALENDAR
