BEGIN:VCALENDAR
CALSCALE:GREGORIAN
METHOD:PUBLISH
PRODID:-//5.199.133.97//NONSGML iCalcreator 2.6//
VERSION:2.0
UNIQUE_ID:event1051@Йога секреты
X-WR-TIMEZONE:Asia/Baku
BEGIN:VEVENT
UID:event1051@Йога секреты
DTSTAMP:20260421T153936Z
CATEGORIES:Курс обучения
DESCRIPTION:Обучение 'Йога в гамаках'\nТип собы
 ия: Курс обучения\nСсылка: https://yogasecrets.ru/ind
 ex.php?option=com_eventlist&view=details&id=1051:-q--q&Itemid=117\n
DTSTART;TZID=Asia/Baku:20150417T100000
DTEND;TZID=Asia/Baku:20150419T180000
LOCATION:Москва\,Russian Federation
SUMMARY:Обучение 'Йога в гамаках'
URL:https://yogasecrets.ru/index.php?option=com_eventlist&view=details&id=1
 051:-q--q&Itemid=117
END:VEVENT
END:VCALENDAR
