BEGIN:VCALENDAR
CALSCALE:GREGORIAN
METHOD:PUBLISH
PRODID:-//5.199.133.97//NONSGML iCalcreator 2.6//
VERSION:2.0
UNIQUE_ID:event1052@Йога секреты
X-WR-TIMEZONE:Asia/Baku
BEGIN:VEVENT
UID:event1052@Йога секреты
DTSTAMP:20260421T152757Z
CATEGORIES:Курс обучения
DESCRIPTION:Курс Университета Йоги 'Анатомия и
  физиология йоги'\nТип события: Курс обуч
 ния\nСсылка: https://yogasecrets.ru/index.php?option=com_eventli
 st&view=details&id=1052:---q---q&Itemid=117\n
DTSTART;TZID=Asia/Baku:20150418T100000
DTEND;TZID=Asia/Baku:20150613T140000
LOCATION:
SUMMARY:Курс Университета Йоги 'Анатомия и ф
 зиология йоги'
URL:https://yogasecrets.ru/index.php?option=com_eventlist&view=details&id=1
 052:---q---q&Itemid=117
END:VEVENT
END:VCALENDAR
