BEGIN:VCALENDAR
CALSCALE:GREGORIAN
METHOD:PUBLISH
PRODID:-//5.199.133.97//NONSGML iCalcreator 2.6//
VERSION:2.0
UNIQUE_ID:event1063@Йога секреты
X-WR-TIMEZONE:Asia/Baku
BEGIN:VEVENT
UID:event1063@Йога секреты
DTSTAMP:20260421T121013Z
CATEGORIES:Курс обучения
DESCRIPTION:Обучение 'Йога в гамаках' СПб 1 - 3 ма
 я\nТип события: Курс обучения\nСсылка: https:
 //yogasecrets.ru/index.php?option=com_eventlist&view=details&id=1063:-q--q
 --1-3-&Itemid=117\n
DTSTART;TZID=Asia/Baku:20150501T100000
DTEND;TZID=Asia/Baku:20150503T180000
LOCATION:Студия Аэро Йоги Ananta\,Парашютная\,1\,С
 анкт-Петербург\,Russian Federation
SUMMARY:Обучение 'Йога в гамаках' СПб 1 - 3 мая
URL:https://yogasecrets.ru/index.php?option=com_eventlist&view=details&id=1
 063:-q--q--1-3-&Itemid=117
END:VEVENT
END:VCALENDAR
