BEGIN:VCALENDAR
CALSCALE:GREGORIAN
METHOD:PUBLISH
PRODID:-//5.199.133.97//NONSGML iCalcreator 2.6//
VERSION:2.0
UNIQUE_ID:event1087@Йога секреты
X-WR-TIMEZONE:Asia/Baku
BEGIN:VEVENT
UID:event1087@Йога секреты
DTSTAMP:20260421T072606Z
CATEGORIES:Курс обучения
DESCRIPTION:Курс аюрведы в Гималаях в августе 2
 015\nТип события: Курс обучения\nСсылка: https
 ://yogasecrets.ru/index.php?option=com_eventlist&view=details&id=1087:----
 --2015&Itemid=117\n
DTSTART;VALUE=DATE:20150801
DTEND;VALUE=DATE:20150816
LOCATION:Отель Рагини\,Нет там улиц\,Наггар\,Ind
 ia
SUMMARY:Курс аюрведы в Гималаях в августе 2015
URL:https://yogasecrets.ru/index.php?option=com_eventlist&view=details&id=1
 087:------2015&Itemid=117
END:VEVENT
END:VCALENDAR
