BEGIN:VCALENDAR
CALSCALE:GREGORIAN
METHOD:PUBLISH
PRODID:-//5.199.133.97//NONSGML iCalcreator 2.6//
VERSION:2.0
UNIQUE_ID:event1105@Йога секреты
X-WR-TIMEZONE:Asia/Baku
BEGIN:VEVENT
UID:event1105@Йога секреты
DTSTAMP:20260421T121011Z
CATEGORIES:Курс обучения
DESCRIPTION:Обучение Рейки. Проводит мастер Ре
 йки\, йогачарья  Шри Н. Вид\nТип события: К
 рс обучения\nСсылка: https://yogasecrets.ru/index.php?opt
 ion=com_eventlist&view=details&id=1105:--------&Itemid=117\n
DTSTART;TZID=Asia/Baku:20150606T100000
DTEND;TZID=Asia/Baku:20150615T160000
LOCATION:Центр аюрведы и йоги 'Керала'\,Мичури
 нский проспект\,3\,Москва\,Russian Federation
SUMMARY:Обучение Рейки. Проводит мастер Рейк
 и\, йогачарья  Шри Н. Вид
URL:https://yogasecrets.ru/index.php?option=com_eventlist&view=details&id=1
 105:--------&Itemid=117
END:VEVENT
END:VCALENDAR
