BEGIN:VCALENDAR
CALSCALE:GREGORIAN
METHOD:PUBLISH
PRODID:-//5.199.133.97//NONSGML iCalcreator 2.6//
VERSION:2.0
UNIQUE_ID:event1140@Йога секреты
X-WR-TIMEZONE:Asia/Baku
BEGIN:VEVENT
UID:event1140@Йога секреты
DTSTAMP:20260421T102958Z
CATEGORIES:Курс обучения
DESCRIPTION:Обучение Рейки с Мастером Шри Н. Ви
 джайярагхаван\nТип события: Курс обучени
 я\nСсылка: https://yogasecrets.ru/index.php?option=com_eventlist&vi
 ew=details&id=1140:------&Itemid=117\n
DTSTART;TZID=Asia/Baku:20150606T100000
DTEND;TZID=Asia/Baku:20150610T160000
LOCATION:Центр аюрведы и йоги 'Керала'\,Мичури
 нский проспект\,3\,Москва\,Russian Federation
SUMMARY:Обучение Рейки с Мастером Шри Н. Видж
 айярагхаван
URL:https://yogasecrets.ru/index.php?option=com_eventlist&view=details&id=1
 140:------&Itemid=117
END:VEVENT
END:VCALENDAR
