BEGIN:VCALENDAR
CALSCALE:GREGORIAN
METHOD:PUBLISH
PRODID:-//5.199.133.97//NONSGML iCalcreator 2.6//
VERSION:2.0
UNIQUE_ID:event1165@Йога секреты
X-WR-TIMEZONE:Asia/Baku
BEGIN:VEVENT
UID:event1165@Йога секреты
DTSTAMP:20260421T090704Z
CATEGORIES:Курс обучения
DESCRIPTION:КУРС ПОВЫШЕНИЯ КВАЛИФИКАЦИИ инстр
 укторов\nТип события: Курс обучения\nСсыл
 ка: https://yogasecrets.ru/index.php?option=com_eventlist&view=details&i
 d=1165:---&Itemid=117\n
DTSTART;TZID=Asia/Baku:20150706T070000
DTEND;TZID=Asia/Baku:20150711T110000
LOCATION:Поток странствий\,Энгельса\, 33\,Санкт
 -Петербург\,Russian Federation
SUMMARY:КУРС ПОВЫШЕНИЯ КВАЛИФИКАЦИИ инструк
 торов
URL:https://yogasecrets.ru/index.php?option=com_eventlist&view=details&id=1
 165:---&Itemid=117
END:VEVENT
END:VCALENDAR
