BEGIN:VCALENDAR
CALSCALE:GREGORIAN
METHOD:PUBLISH
PRODID:-//5.199.133.97//NONSGML iCalcreator 2.6//
VERSION:2.0
UNIQUE_ID:event1266@Йога секреты
X-WR-TIMEZONE:Asia/Baku
BEGIN:VEVENT
UID:event1266@Йога секреты
DTSTAMP:20260421T055024Z
CATEGORIES:Курс обучения
DESCRIPTION:Освоение шпагатов\nТип события: Ку
 с обучения\nСсылка: https://yogasecrets.ru/index.php?optio
 n=com_eventlist&view=details&id=1266:-&Itemid=117\n
DTSTART;TZID=Asia/Baku:20150823T130000
DTEND;TZID=Asia/Baku:20150823T150000
LOCATION:Студия 'Воздух'\,3-й Самотёчный переу
 ок\, д. 11\, стр. 1\,Москва\,Russian Federation
SUMMARY:Освоение шпагатов
URL:https://yogasecrets.ru/index.php?option=com_eventlist&view=details&id=1
 266:-&Itemid=117
END:VEVENT
END:VCALENDAR
