BEGIN:VCALENDAR
CALSCALE:GREGORIAN
METHOD:PUBLISH
PRODID:-//5.199.133.97//NONSGML iCalcreator 2.6//
VERSION:2.0
UNIQUE_ID:event1298@Йога секреты
X-WR-TIMEZONE:Asia/Baku
BEGIN:VEVENT
UID:event1298@Йога секреты
DTSTAMP:20260421T054957Z
CATEGORIES:Курс обучения
DESCRIPTION:Программа саморазвития с Дашей Ка
 оловой\nТип события: Курс обучения\nСсыл
 а: https://yogasecrets.ru/index.php?option=com_eventlist&view=details&id
 =1298:----&Itemid=117\n
DTSTART;VALUE=DATE:20150907
DTEND;VALUE=DATE:20160222
LOCATION:Даша Каболова. Йога и целение\,Москв
 \,Russian Federation
SUMMARY:Программа саморазвития с Дашей Кабо
 овой
URL:https://yogasecrets.ru/index.php?option=com_eventlist&view=details&id=1
 298:----&Itemid=117
END:VEVENT
END:VCALENDAR
