BEGIN:VCALENDAR
CALSCALE:GREGORIAN
METHOD:PUBLISH
PRODID:-//5.199.133.97//NONSGML iCalcreator 2.6//
VERSION:2.0
UNIQUE_ID:event1299@Йога секреты
X-WR-TIMEZONE:Asia/Baku
BEGIN:VEVENT
UID:event1299@Йога секреты
DTSTAMP:20260421T041204Z
CATEGORIES:Курс обучения
DESCRIPTION:Международный тренинг сат нам рас
 ян 1-го уровня\nТип события: Курс обучени
 \nСсылка: https://yogasecrets.ru/index.php?option=com_eventlist&vie
 w=details&id=1299:-----1--&Itemid=117\n
DTSTART;VALUE=DATE:20150912
DTEND;VALUE=DATE:20160404
LOCATION:Даша Каболова. Йога и целение\,Москв
 \,Russian Federation
SUMMARY:Международный тренинг сат нам расая
  1-го уровня
URL:https://yogasecrets.ru/index.php?option=com_eventlist&view=details&id=1
 299:-----1--&Itemid=117
END:VEVENT
END:VCALENDAR
