BEGIN:VCALENDAR
CALSCALE:GREGORIAN
METHOD:PUBLISH
PRODID:-//5.199.133.97//NONSGML iCalcreator 2.6//
VERSION:2.0
UNIQUE_ID:event1321@Йога секреты
X-WR-TIMEZONE:Asia/Baku
BEGIN:VEVENT
UID:event1321@Йога секреты
DTSTAMP:20260421T023748Z
CATEGORIES:Курс обучения
DESCRIPTION:Курс подготовки преподавателей по
  йога-терапии в Ришикеше\nТип события: Ку
 с обучения\nСсылка: https://yogasecrets.ru/index.php?optio
 n=com_eventlist&view=details&id=1321:-------&Itemid=117\n
DTSTART;TZID=Asia/Baku:20151006T060000
DTEND;TZID=Asia/Baku:20151104T190000
LOCATION:
SUMMARY:Курс подготовки преподавателей по й
 га-терапии в Ришикеше
URL:https://yogasecrets.ru/index.php?option=com_eventlist&view=details&id=1
 321:-------&Itemid=117
END:VEVENT
END:VCALENDAR
