BEGIN:VCALENDAR
CALSCALE:GREGORIAN
METHOD:PUBLISH
PRODID:-//5.199.133.97//NONSGML iCalcreator 2.6//
VERSION:2.0
UNIQUE_ID:event1338@Йога секреты
X-WR-TIMEZONE:Asia/Baku
BEGIN:VEVENT
UID:event1338@Йога секреты
DTSTAMP:20260420T191558Z
CATEGORIES:Курс обучения
DESCRIPTION:Курс Юлии Бакшеевой: 'Аюрведическа
 я косметология'\nТип события: Курс обучен
 ия\nСсылка: https://yogasecrets.ru/index.php?option=com_eventlist&
 view=details&id=1338:---q-q&Itemid=117\n
DTSTART;TZID=Asia/Baku:20151028T183000
DTEND;TZID=Asia/Baku:20151101T213000
LOCATION:Библиотека им.Волошина\,Новодевичий
  проезд\, 10\,Москва\,Russian Federation
SUMMARY:Курс Юлии Бакшеевой: 'Аюрведическая 
 осметология'
URL:https://yogasecrets.ru/index.php?option=com_eventlist&view=details&id=1
 338:---q-q&Itemid=117
END:VEVENT
END:VCALENDAR
