BEGIN:VCALENDAR
CALSCALE:GREGORIAN
METHOD:PUBLISH
PRODID:-//5.199.133.97//NONSGML iCalcreator 2.6//
VERSION:2.0
UNIQUE_ID:event1347@Йога секреты
X-WR-TIMEZONE:Asia/Baku
BEGIN:VEVENT
UID:event1347@Йога секреты
DTSTAMP:20260421T023428Z
CATEGORIES:Курс обучения
DESCRIPTION:Судьба_VS_Свобода воли\nТип события:
  Курс обучения\nСсылка: https://yogasecrets.ru/index.php
 ?option=com_eventlist&view=details&id=1347:vs-&Itemid=117\n
DTSTART;TZID=Asia/Baku:20151012T193000
DTEND;TZID=Asia/Baku:20151014T223000
LOCATION:тренинговое пространство Министерс
 тво\,Аптекарский проспект д. 4 \,Санкт-Пет
 рбург\,\,Russian Federation
SUMMARY:Судьба_VS_Свобода воли
URL:https://yogasecrets.ru/index.php?option=com_eventlist&view=details&id=1
 347:vs-&Itemid=117
END:VEVENT
END:VCALENDAR
