BEGIN:VCALENDAR
CALSCALE:GREGORIAN
METHOD:PUBLISH
PRODID:-//5.199.133.97//NONSGML iCalcreator 2.6//
VERSION:2.0
UNIQUE_ID:event1354@Йога секреты
X-WR-TIMEZONE:Asia/Baku
BEGIN:VEVENT
UID:event1354@Йога секреты
DTSTAMP:20260420T102915Z
CATEGORIES:Курс обучения
DESCRIPTION:Суботялов М.А.:'Традиционные Систе
 ы Оздоровления'\nТип события: Курс обуче
 ия\nСсылка: https://yogasecrets.ru/index.php?option=com_eventlist
 &view=details&id=1354:-q--q&Itemid=117\n
DTSTART;TZID=Asia/Baku:20160319T090000
DTEND;TZID=Asia/Baku:20160326T160000
LOCATION:Библиотека им.Волошина\,Новодевичий
  проезд\, 10\,Москва\,Russian Federation
SUMMARY:Суботялов М.А.:'Традиционные Системы 
 Оздоровления'
URL:https://yogasecrets.ru/index.php?option=com_eventlist&view=details&id=1
 354:-q--q&Itemid=117
END:VEVENT
END:VCALENDAR
