BEGIN:VCALENDAR
CALSCALE:GREGORIAN
METHOD:PUBLISH
PRODID:-//5.199.133.97//NONSGML iCalcreator 2.6//
VERSION:2.0
UNIQUE_ID:event1369@Йога секреты
X-WR-TIMEZONE:Asia/Baku
BEGIN:VEVENT
UID:event1369@Йога секреты
DTSTAMP:20260420T191238Z
CATEGORIES:Курс обучения
DESCRIPTION:ЙОГА&ДЕТОКС™\, ОНЛАЙН ДЕТОКС ПРОГР
 АММА\nТип события: Курс обучения\nСсылка: 
 https://yogasecrets.ru/index.php?option=com_eventlist&view=details&id=1369
 :a---&Itemid=117\n
DTSTART;VALUE=DATE:20151028
DTEND;VALUE=DATE:20151113
LOCATION:Online\,Online\,Москва\,Russian Federation
SUMMARY:ЙОГА&ДЕТОКС™\, ОНЛАЙН ДЕТОКС ПРОГРАМ
 МА
URL:https://yogasecrets.ru/index.php?option=com_eventlist&view=details&id=1
 369:a---&Itemid=117
END:VEVENT
END:VCALENDAR
