BEGIN:VCALENDAR
CALSCALE:GREGORIAN
METHOD:PUBLISH
PRODID:-//5.199.133.97//NONSGML iCalcreator 2.6//
VERSION:2.0
UNIQUE_ID:event1411@Йога секреты
X-WR-TIMEZONE:Asia/Baku
BEGIN:VEVENT
UID:event1411@Йога секреты
DTSTAMP:20260420T161116Z
CATEGORIES:Курс обучения
DESCRIPTION:2-й уровень сат нам расаян в Москве
 \nТип события: Курс обучения\nСсылка: https://
 yogasecrets.ru/index.php?option=com_eventlist&view=details&id=1411:2------
 -&Itemid=117\n
DTSTART;TZID=Asia/Baku:20151219T100000
DTEND;TZID=Asia/Baku:20151220T180000
LOCATION:Даша Каболова. Йога и целение\,Москв
 \,Russian Federation
SUMMARY:2-й уровень сат нам расаян в Москве
URL:https://yogasecrets.ru/index.php?option=com_eventlist&view=details&id=1
 411:2-------&Itemid=117
END:VEVENT
END:VCALENDAR
