BEGIN:VCALENDAR
CALSCALE:GREGORIAN
METHOD:PUBLISH
PRODID:-//5.199.133.97//NONSGML iCalcreator 2.6//
VERSION:2.0
UNIQUE_ID:event1416@Йога секреты
X-WR-TIMEZONE:Asia/Baku
BEGIN:VEVENT
UID:event1416@Йога секреты
DTSTAMP:20260420T173245Z
CATEGORIES:Курс обучения
DESCRIPTION:Курс обучения марма-массажу\nТип с
 бытия: Курс обучения\nСсылка: https://yogasecrets.
 ru/index.php?option=com_eventlist&view=details&id=1416:---&Itemid=117\n
DTSTART;TZID=Asia/Baku:20151205T100000
DTEND;TZID=Asia/Baku:20151206T190000
LOCATION:Центр аюрведы и йоги 'Керала'\,Мичури
 нский проспект\,3\,Москва\,Russian Federation
SUMMARY:Курс обучения марма-массажу
URL:https://yogasecrets.ru/index.php?option=com_eventlist&view=details&id=1
 416:---&Itemid=117
END:VEVENT
END:VCALENDAR
